BEGIN:VCALENDAR
VERSION:2.0
PRODID:SchoolNow
CALSCALE:GREGORIAN
BEGIN:VEVENT
UID:9277b05a-8433-11f0-8079-029f65b6582b
DTSTAMP:20260209T161929Z
SUMMARY:CDD Board Meeting - Sept. 2026
LOCATION:960 Promenade St\, Panama City\, FL 32405
URL;VALUE=URI:https://www.sweetbaycommcdd1.com/calendar/8554196/cdd-board-m
 eeting-sept-2026
DTSTART:20260918T150000Z
DTEND:20260918T160000Z
END:VEVENT
END:VCALENDAR
