BEGIN:VCALENDAR
VERSION:2.0
PRODID:SchoolNow
CALSCALE:GREGORIAN
BEGIN:VEVENT
UID:7eed7c90-8433-11f0-a05c-0a58a9feac02
DTSTAMP:20260209T161915Z
SUMMARY:CDD Board Meeting - Jul. 2026
LOCATION:960 Promenade St\, Panama City\, FL 32405
URL;VALUE=URI:https://www.sweetbaycommcdd1.com/calendar/8554194/cdd-board-m
 eeting-jul-2026
DTSTART:20260717T150000Z
DTEND:20260717T160000Z
END:VEVENT
END:VCALENDAR
