BEGIN:VCALENDAR
VERSION:2.0
PRODID:SchoolNow
CALSCALE:GREGORIAN
BEGIN:VEVENT
UID:39c7501e-8433-11f0-84ba-02efef4a7877
DTSTAMP:20260128T225553Z
SUMMARY:CDD Board Meeting - Jan. 2026
LOCATION:3204 Heartleaf Ave. E.\, Panama City\, FL 32405
URL;VALUE=URI:https://www.sweetbaycommcdd1.com/calendar/8554188/cdd-board-m
 eeting-dec-2025-clone
DTSTART:20260130T160000Z
DTEND:20260130T170000Z
ATTACH;FILENAME=2026-01-30 CD1 Revised Agenda Package.pdf;FMTTYPE=applicati
 on/pdf:https://campussuite-storage.s3.amazonaws.com/prod/1559223/02cc8464-
 84b4-11ef-9f1a-0affccc7b799/3065054/30bb5fe4-fc9a-11f0-937e-0a58a9feac02/f
 ile/2026-01-30 CD1 Revised Agenda Package.pdf
ATTACH;FILENAME=2026-01-30 Revised Agenda Package.pdf;FMTTYPE=application/p
 df:https://campussuite-storage.s3.amazonaws.com/prod/1559223/02cc8464-84b4
 -11ef-9f1a-0affccc7b799/3065059/1c4e0bc2-fc9c-11f0-b059-02039515c9a7/file/
 2026-01-30 Revised Agenda Package.pdf
END:VEVENT
END:VCALENDAR
