BEGIN:VCALENDAR
VERSION:2.0
PRODID:SchoolNow
CALSCALE:GREGORIAN
BEGIN:VEVENT
UID:8e832240-8664-11ef-aae7-0a58a9feac02
DTSTAMP:20250912T140614Z
SUMMARY:CDD Board Meeting - Sept. 2025 - CANCELLED
LOCATION:3204 Heartleaf Ave. E.\, Panama City\, FL 32405
URL;VALUE=URI:https://www.sweetbaycommcdd1.com/calendar/6790757/cdd-board-m
 eeting-sept-2025
DTSTART:20250919T150000Z
DTEND:20250919T160000Z
END:VEVENT
END:VCALENDAR
