BEGIN:VCALENDAR
VERSION:2.0
PRODID:SchoolNow
CALSCALE:GREGORIAN
BEGIN:VEVENT
UID:77705190-8664-11ef-8350-0a58a9feac02
DTSTAMP:20250812T194215Z
SUMMARY:CDD Board Meeting + Budget Public Hearing - Aug. 2025
LOCATION:3204 Heartleaf Ave. E.\, Panama City\, FL 32405
URL;VALUE=URI:https://www.sweetbaycommcdd1.com/calendar/6790756/cdd-board-m
 eeting-aug-2025
DTSTART:20250815T150000Z
DTEND:20250815T160000Z
ATTACH;FILENAME=2025-08-15 Main Agenda Package.pdf;FMTTYPE=application/pdf:
 https://campussuite-storage.s3.amazonaws.com/prod/1559223/02cc8464-84b4-11
 ef-9f1a-0affccc7b799/2990378/1e066328-749e-11f0-af81-0a58a9feac02/file/202
 5-08-15 Main Agenda Package.pdf
ATTACH;FILENAME=2025-08-15 CD1 Agenda Package.pdf;FMTTYPE=application/pdf:h
 ttps://campussuite-storage.s3.amazonaws.com/prod/1559223/02cc8464-84b4-11e
 f-9f1a-0affccc7b799/2991914/11cb00fa-77b4-11f0-9a54-0affeaa60e11/file/2025
 -08-15 CD1 Agenda Package.pdf
END:VEVENT
END:VCALENDAR
