BEGIN:VCALENDAR
VERSION:2.0
PRODID:SchoolNow
CALSCALE:GREGORIAN
BEGIN:VEVENT
UID:4fc0a12c-8664-11ef-ab7e-0a58a9feac02
DTSTAMP:20250618T202025Z
SUMMARY:CDD Board Meeting - Jun. 2025
LOCATION:3204 Heartleaf Ave. E.\, Panama City\, FL 32405
URL;VALUE=URI:https://www.sweetbaycommcdd1.com/calendar/6790754/cdd-board-m
 eeting-jun-2025
DTSTART:20250620T150000Z
DTEND:20250620T160000Z
ATTACH;FILENAME=2025-06-20 Commercial CDD 1 Agenda Package.pdf;FMTTYPE=appl
 ication/pdf:https://campussuite-storage.s3.amazonaws.com/prod/1559223/02cc
 8464-84b4-11ef-9f1a-0affccc7b799/2970879/947e227e-4c81-11f0-8c08-0a58a9fea
 c02/file/2025-06-20 Commercial CDD 1 Agenda Package.pdf
ATTACH;FILENAME=2025-06-20 Agenda Package.pdf;FMTTYPE=application/pdf:https
 ://campussuite-storage.s3.amazonaws.com/prod/1559223/02cc8464-84b4-11ef-9f
 1a-0affccc7b799/2970878/947dd666-4c81-11f0-b663-0a58a9feac02/file/2025-06-
 20 Agenda Package.pdf
END:VEVENT
END:VCALENDAR
