BEGIN:VCALENDAR
VERSION:2.0
PRODID:SchoolNow
CALSCALE:GREGORIAN
BEGIN:VEVENT
UID:2dd9c0a2-8664-11ef-9c55-0affc21158ad
DTSTAMP:20250514T211122Z
SUMMARY:CDD Board Meeting - May 2025
LOCATION:3204 Heartleaf Ave. E.\, Panama City\, FL 32405
URL;VALUE=URI:https://www.sweetbaycommcdd1.com/calendar/6790753/cdd-board-m
 eeting-may-2025
DTSTART:20250516T150000Z
DTEND:20250516T160000Z
ATTACH;FILENAME=2025-05-16 Main Agenda Package.pdf;FMTTYPE=application/pdf:
 https://campussuite-storage.s3.amazonaws.com/prod/1559223/02cc8464-84b4-11
 ef-9f1a-0affccc7b799/2954087/bcdc550a-3107-11f0-a632-0a58a9feac02/file/202
 5-05-16 Main Agenda Package.pdf
ATTACH;FILENAME=2025-05-16 CD 1 Agenda Package.pdf;FMTTYPE=application/pdf:
 https://campussuite-storage.s3.amazonaws.com/prod/1559223/02cc8464-84b4-11
 ef-9f1a-0affccc7b799/2954088/bcdc87dc-3107-11f0-bd76-0a58a9feac02/file/202
 5-05-16 CD 1 Agenda Package.pdf
END:VEVENT
END:VCALENDAR
