BEGIN:VCALENDAR
VERSION:2.0
PRODID:SchoolNow
CALSCALE:GREGORIAN
BEGIN:VEVENT
UID:190782f4-8664-11ef-bed7-0a58a9feac02
DTSTAMP:20250411T142531Z
SUMMARY:CDD Board Meeting - Apr. 2025 - CANCELLED
LOCATION:3204 Heartleaf Ave. E.\, Panama City\, FL 32405
URL;VALUE=URI:https://www.sweetbaycommcdd1.com/calendar/6790752/cdd-board-m
 eeting-apr-2025
DTSTART:20250418T150000Z
DTEND:20250418T160000Z
END:VEVENT
END:VCALENDAR
