BEGIN:VCALENDAR
VERSION:2.0
PRODID:SchoolNow
CALSCALE:GREGORIAN
BEGIN:VEVENT
UID:fea2a628-8663-11ef-ae7d-025a56834d95
DTSTAMP:20250317T151829Z
SUMMARY:CDD Board Meeting - Mar. 2025 - CANCELLED
LOCATION:3204 Heartleaf Ave. E.\, Panama City\, FL 32405
URL;VALUE=URI:https://www.sweetbaycommcdd1.com/calendar/6790751/cdd-board-m
 eeting-mar-2025
DTSTART:20250321T150000Z
DTEND:20250321T160000Z
END:VEVENT
END:VCALENDAR
