BEGIN:VCALENDAR
VERSION:2.0
PRODID:SchoolNow
CALSCALE:GREGORIAN
BEGIN:VEVENT
UID:e8189782-8663-11ef-aca5-0a58a9feac02
DTSTAMP:20250214T214200Z
SUMMARY:CDD Board Meeting - Feb. 2025
LOCATION:3204 Heartleaf Ave. E.\, Panama City\, FL 32405
URL;VALUE=URI:https://www.sweetbaycommcdd1.com/calendar/6790750/cdd-board-m
 eeting-feb-2025
DTSTART:20250221T160000Z
DTEND:20250221T170000Z
ATTACH;FILENAME=2025-02-21 Agenda Package.pdf;FMTTYPE=application/pdf:https
 ://campussuite-storage.s3.amazonaws.com/prod/1559223/02cc8464-84b4-11ef-9f
 1a-0affccc7b799/2916199/49447afe-eb1c-11ef-ba75-0affd061b54f/file/2025-02-
 21 Agenda Package.pdf
END:VEVENT
END:VCALENDAR
