BEGIN:VCALENDAR
VERSION:2.0
PRODID:SchoolNow
CALSCALE:GREGORIAN
BEGIN:VEVENT
UID:a7fae376-8663-11ef-ab04-0a58a9feac02
DTSTAMP:20241206T205023Z
SUMMARY:CDD Board Meeting - Dec. 2024
LOCATION:3204 Heartleaf Ave. E.\, Panama City\, FL 32405
URL;VALUE=URI:https://www.sweetbaycommcdd1.com/calendar/6790748/cdd-board-m
 eeting-dec-2024
DTSTART:20241213T190000Z
DTEND:20241213T200000Z
ATTACH;FILENAME=2024-12-13 Agenda Package.pdf;FMTTYPE=application/pdf:https
 ://campussuite-storage.s3.amazonaws.com/prod/1559223/02cc8464-84b4-11ef-9f
 1a-0affccc7b799/2888143/90651050-b413-11ef-8bf9-0affe4db5785/file/2024-12-
 13 Agenda Package.pdf
END:VEVENT
END:VCALENDAR
