BEGIN:VCALENDAR
VERSION:2.0
PRODID:SchoolNow
CALSCALE:GREGORIAN
BEGIN:VEVENT
UID:88125954-8663-11ef-aa01-0a58a9feac02
DTSTAMP:20241124T021640Z
SUMMARY:CDD Board Meeting - Nov. 2024 - CANCELLED
LOCATION:3204 Heartleaf Ave. E.\, Panama City\, FL 32405
URL;VALUE=URI:https://www.sweetbaycommcdd1.com/calendar/6790747/cdd-board-m
 eeting-nov-2024
DTSTART:20241115T160000Z
DTEND:20241115T170000Z
END:VEVENT
END:VCALENDAR
